BEGIN:VCALENDAR
VERSION:2.0
PRODID:-//ChamberMaster//Event Calendar 2.0//EN
METHOD:PUBLISH
X-PUBLISHED-TTL:P1H
REFRESH-INTERVAL:P1H
CALSCALE:GREGORIAN
BEGIN:VTIMEZONE
TZID:America/New_York
BEGIN:DAYLIGHT
RRULE:FREQ=YEARLY;BYMONTH=3;BYDAY=2SU
DTSTART:20070101T000000
TZOFFSETFROM:-0500
TZOFFSETTO:-0400
TZNAME:Eastern Daylight Time
END:DAYLIGHT
BEGIN:STANDARD
RRULE:FREQ=YEARLY;BYMONTH=11;BYDAY=1SU
DTSTART:20070101T000000
TZOFFSETFROM:-0400
TZOFFSETTO:-0500
TZNAME:Eastern Standard Time
END:STANDARD
END:VTIMEZONE
BEGIN:VEVENT
DTSTART;TZID=America/New_York:20260504T100000
DTEND;TZID=America/New_York:20260504T140000
X-MICROSOFT-CDO-ALLDAYEVENT:FALSE
SUMMARY:Career Fair
DESCRIPTION:Meet the team\, tour our emergency hospital and interview on the spot! Walk-ins welcome! Licensed Veterinary Technicians ($10\,000 Signing Bonus) Emergency Veterinarians ($25\,000 Signing Bonus) Experienced Veterinary Assistants ($1\,000 Signing Bonus) Client Care Representatives ($1\,000 Signing Bonus)\nRegister here: https://guardianvet-eroc.com/careers/
X-ALT-DESC;FMTTYPE=text/html:<!DOCTYPE html><html><head><title></title></head><body aria-disabled="false"><p>Meet the team\, tour our emergency hospital and interview on the spot! Walk-ins welcome! Licensed Veterinary Technicians ($10\,000 Signing Bonus) Emergency Veterinarians ($25\,000 Signing Bonus) Experienced Veterinary Assistants ($1\,000 Signing Bonus) Client Care Representatives ($1\,000 Signing Bonus)</p><p><br></p><p>Register here:&nbsp\;<a fr-original-style="" href="https://guardianvet-eroc.com/careers/" style="user-select: auto\;">https://guardianvet-eroc.com/careers/</a></p></body></html>
LOCATION:517 Route 211 East Middletown NY 10941
UID:e.3761.1444264
SEQUENCE:3
DTSTAMP:20260423T084304Z
URL:https://members.orangeny.com/chamber-calendar/Details/career-fair-1710631?sourceTypeId=Hub
END:VEVENT
END:VCALENDAR
