BEGIN:VCALENDAR
VERSION:2.0
PRODID:-//ChamberMaster//Event Calendar 2.0//EN
METHOD:PUBLISH
X-PUBLISHED-TTL:P1H
REFRESH-INTERVAL:P1H
CALSCALE:GREGORIAN
BEGIN:VTIMEZONE
TZID:America/New_York
BEGIN:DAYLIGHT
RRULE:FREQ=YEARLY;BYMONTH=3;BYDAY=2SU
DTSTART:20070101T000000
TZOFFSETFROM:-0500
TZOFFSETTO:-0400
TZNAME:Eastern Daylight Time
END:DAYLIGHT
BEGIN:STANDARD
RRULE:FREQ=YEARLY;BYMONTH=11;BYDAY=1SU
DTSTART:20070101T000000
TZOFFSETFROM:-0400
TZOFFSETTO:-0500
TZNAME:Eastern Standard Time
END:STANDARD
END:VTIMEZONE
BEGIN:VEVENT
DTSTART;TZID=America/New_York:20260505T170000
DTEND;TZID=America/New_York:20260505T200000
X-MICROSOFT-CDO-ALLDAYEVENT:FALSE
SUMMARY:Cruzin Port
DESCRIPTION:Cruzin Port is classic car show on Front St. in downtown Port Jervis\, NY. 5pm - 8pm on the 1st Tuesday of each month May through September.\n\nTrophies awarded each week.\n\nLive music\, local businesses open late for attendees.
X-ALT-DESC;FMTTYPE=text/html:Cruzin Port is classic car show on Front St. in downtown Port Jervis\, NY. 5pm - 8pm on the 1st Tuesday of each month May through September.\n\nTrophies awarded each week.\n\nLive music\, local businesses open late for attendees.
LOCATION:1 Jersey Ave Port Jervis NY 12771
UID:e.3761.1445180
SEQUENCE:3
DTSTAMP:20260423T084333Z
URL:https://members.orangeny.com/chamber-calendar/Details/cruzin-port-1711687?sourceTypeId=Hub
END:VEVENT
END:VCALENDAR
