BEGIN:VCALENDAR
VERSION:2.0
PRODID:-//ChamberMaster//Event Calendar 2.0//EN
METHOD:PUBLISH
X-PUBLISHED-TTL:P1H
REFRESH-INTERVAL:P1H
CALSCALE:GREGORIAN
BEGIN:VTIMEZONE
TZID:America/New_York
BEGIN:DAYLIGHT
RRULE:FREQ=YEARLY;BYMONTH=3;BYDAY=2SU
DTSTART:20070101T000000
TZOFFSETFROM:-0500
TZOFFSETTO:-0400
TZNAME:Eastern Daylight Time
END:DAYLIGHT
BEGIN:STANDARD
RRULE:FREQ=YEARLY;BYMONTH=11;BYDAY=1SU
DTSTART:20070101T000000
TZOFFSETFROM:-0400
TZOFFSETTO:-0500
TZNAME:Eastern Standard Time
END:STANDARD
END:VTIMEZONE
BEGIN:VEVENT
DTSTART;TZID=America/New_York:20260917T120000
DTEND;TZID=America/New_York:20260917T130000
X-MICROSOFT-CDO-ALLDAYEVENT:FALSE
SUMMARY:Estate Planning Made Simple Webinar
DESCRIPTION:J&G Law Partner Michael Wagner will discuss ways to avoid probate\, how to protect your assets for your selected beneficiaries\, tips for preventing long-term care costs\, and more in this 30-minute webinar. Registration required at www.jglaw.law/events
X-ALT-DESC;FMTTYPE=text/html:J&G Law Partner Michael Wagner will discuss ways to avoid probate\, how to protect your assets for your selected beneficiaries\, tips for preventing long-term care costs\, and more in this 30-minute webinar. Registration required at www.jglaw.law/events
LOCATION:
UID:e.3761.1443164
SEQUENCE:3
DTSTAMP:20260423T084607Z
URL:https://members.orangeny.com/chamber-calendar/Details/estate-planning-made-simple-webinar-1709374?sourceTypeId=Hub
END:VEVENT
END:VCALENDAR
