BEGIN:VCALENDAR
VERSION:2.0
PRODID:-//ChamberMaster//Event Calendar 2.0//EN
METHOD:PUBLISH
X-PUBLISHED-TTL:P1H
REFRESH-INTERVAL:P1H
CALSCALE:GREGORIAN
BEGIN:VTIMEZONE
TZID:America/New_York
BEGIN:DAYLIGHT
RRULE:FREQ=YEARLY;BYMONTH=3;BYDAY=2SU
DTSTART:20070101T000000
TZOFFSETFROM:-0500
TZOFFSETTO:-0400
TZNAME:Eastern Daylight Time
END:DAYLIGHT
BEGIN:STANDARD
RRULE:FREQ=YEARLY;BYMONTH=11;BYDAY=1SU
DTSTART:20070101T000000
TZOFFSETFROM:-0400
TZOFFSETTO:-0500
TZNAME:Eastern Standard Time
END:STANDARD
END:VTIMEZONE
BEGIN:VEVENT
DTSTART;TZID=America/New_York:20260413T080000
DTEND;TZID=America/New_York:20260620T170000
X-MICROSOFT-CDO-ALLDAYEVENT:FALSE
SUMMARY:Pull the Tank
DESCRIPTION:Join us for Pull the Tank\, a thrilling fundraising challenge where teams of 20\ntake on the ultimate test of strength! Haul a 120\,000-pound World War II\nSherman Tank and flatbed 50 feet in the shortest time possible.
X-ALT-DESC;FMTTYPE=text/html:Join us for Pull the Tank\, a thrilling fundraising challenge where teams of 20\ntake on the ultimate test of strength! Haul a 120\,000-pound World War II\nSherman Tank and flatbed 50 feet in the shortest time possible.
LOCATION:211 State Route 416 Campbell Hall NY 10916
UID:e.3761.1442405
SEQUENCE:3
DTSTAMP:20260423T084205Z
URL:https://members.orangeny.com/chamber-calendar/Details/pull-the-tank-1708353?sourceTypeId=Hub
END:VEVENT
END:VCALENDAR
