BEGIN:VCALENDAR
VERSION:2.0
PRODID:-//ChamberMaster//Event Calendar 2.0//EN
METHOD:PUBLISH
X-PUBLISHED-TTL:P1H
REFRESH-INTERVAL:P1H
CALSCALE:GREGORIAN
BEGIN:VTIMEZONE
TZID:America/New_York
BEGIN:DAYLIGHT
RRULE:FREQ=YEARLY;BYMONTH=3;BYDAY=2SU
DTSTART:20070101T000000
TZOFFSETFROM:-0500
TZOFFSETTO:-0400
TZNAME:Eastern Daylight Time
END:DAYLIGHT
BEGIN:STANDARD
RRULE:FREQ=YEARLY;BYMONTH=11;BYDAY=1SU
DTSTART:20070101T000000
TZOFFSETFROM:-0400
TZOFFSETTO:-0500
TZNAME:Eastern Standard Time
END:STANDARD
END:VTIMEZONE
BEGIN:VEVENT
DTSTART;TZID=America/New_York:20260415T080000
DTEND;TZID=America/New_York:20261101T170000
X-MICROSOFT-CDO-ALLDAYEVENT:FALSE
SUMMARY:Support Military Families and Veterans and Get a Little Muddy!
DESCRIPTION:Military families serve in ways that often go unseen. Blue Star Families is here to make sure they are supported\, connected\, and never alone no matter where they are. We are building corporate fundraising teams for ANY upcoming obstacle course events through our partnership with Spartan Race and Tough Mudder. Visit their sites for race location and information:\nwww.spartan.comwww.toughmudder.com \nThe commitment is straightforward: assemble a team of employee athletes\, each raising $1\,000 to support Blue Star Families programs across the NY Tri-State region. We provide VIP race entry\, fundraising tools\, event day gear\, coaching\, and full logistics support   your team just shows up ready to run. \nFor companies open to it\, we welcome the opportunity to structure a matching arrangement: runners raise $500\, and the company matches the remaining $500. This model reduces the individual fundraising burden while doubling the collective impact for military families in the tri-state region. Funds raised go directly to work in our region\, supporting:   Food security initiatives that have distributed more than 160\,000 pounds of food to military families in need  Community connection events that reduce isolation and build belonging   from Month of the Military Child celebrations and Welcome Week events to Military Spouse Appreciation gatherings and year-round programming that honors the full military family   Workforce development programs helping service members and military spouses build meaningful careers \nIf this resonates with your group's mission and your company's values...\n...reach out and we will share the next steps and details on how to set up your team. \nPS: Individuals can participate and fundraise in these events for us - they do not have to be part of a corporate team. So\, if there is anyone who just wants to participate and feels they can reach the $1000 fundraising goal\, please send them my way!\nPSS: For more information\, click here for the program flyer.
X-ALT-DESC;FMTTYPE=text/html:<!DOCTYPE html><html><head><title></title></head><body aria-disabled="false"><p>Military families serve in ways that often go unseen. Blue Star Families is here to make sure they are supported\, connected\, and never alone no matter where they are.&nbsp\;</p><p>We are building corporate fundraising teams for ANY upcoming obstacle course events through our partnership with Spartan Race and Tough Mudder. Visit their sites for race location and information:</p><p><br></p><p><a fr-original-style="" href="//www.spartan.com" style="user-select: auto\;">www.spartan.com</a></p><p><a fr-original-style="" href="//www.toughmudder.com" style="user-select: auto\;">www.toughmudder.com</a>&nbsp\;</p><p><br></p><p>The commitment is straightforward: assemble a team of employee athletes\, each raising $1\,000 to support Blue Star Families programs across the NY Tri-State region. We provide VIP race entry\, fundraising tools\, event day gear\, coaching\, and full logistics support &mdash\; your team just shows up ready to run.&nbsp\;</p><p><br></p><p>For companies open to it\, we welcome the opportunity to structure a matching arrangement: runners raise $500\, and the company matches the remaining $500. This model reduces the individual fundraising burden while doubling the collective impact for military families in the tri-state region.&nbsp\;</p><p>Funds raised go directly to work in our region\, supporting:&nbsp\;</p><p>&bull\; Food security initiatives that have distributed more than 160\,000 pounds of food to military families in need</p><p>&bull\; Community connection events that reduce isolation and build belonging &mdash\; from Month of the Military Child celebrations and Welcome Week events to Military Spouse Appreciation gatherings and year-round programming that honors the full military family&nbsp\;</p><p>&bull\; Workforce development programs helping service members and military spouses build meaningful careers&nbsp\;</p><p><br></p><p>If this resonates with your group&#39\;s mission and your company&#39\;s values...</p><p><br></p><p><strong fr-original-style="" style="font-weight: 700\;">...reach out and we will share the next steps and details on how to set up your team.&nbsp\;</strong></p><p><br></p><p>PS: Individuals can participate and fundraise in these events for us - they do not have to be part of a corporate team. So\, if there is anyone who just wants to participate and feels they can reach the $1000 fundraising goal\, please send them my way!</p><p><br></p><p>PSS: For more information\, <a fr-original-style="" href="https://canva.link/zfkv0weqor38ywf" rel="noopener noreferrer" style="user-select: auto\;" target="_blank">click here for the program flyer</a>.</p></body></html>
LOCATION:
UID:e.3761.1444487
SEQUENCE:3
DTSTAMP:20260423T085309Z
URL:https://members.orangeny.com/chamber-calendar/Details/support-military-families-and-veterans-and-get-a-little-muddy-1710863?sourceTypeId=Hub
END:VEVENT
END:VCALENDAR
