BEGIN:VCALENDAR
VERSION:2.0
PRODID:-//ChamberMaster//Event Calendar 2.0//EN
METHOD:PUBLISH
X-PUBLISHED-TTL:P1H
REFRESH-INTERVAL:P1H
CALSCALE:GREGORIAN
BEGIN:VTIMEZONE
TZID:America/New_York
BEGIN:DAYLIGHT
RRULE:FREQ=YEARLY;BYMONTH=3;BYDAY=2SU
DTSTART:20070101T000000
TZOFFSETFROM:-0500
TZOFFSETTO:-0400
TZNAME:Eastern Daylight Time
END:DAYLIGHT
BEGIN:STANDARD
RRULE:FREQ=YEARLY;BYMONTH=11;BYDAY=1SU
DTSTART:20070101T000000
TZOFFSETFROM:-0400
TZOFFSETTO:-0500
TZNAME:Eastern Standard Time
END:STANDARD
END:VTIMEZONE
BEGIN:VEVENT
DTSTART;TZID=America/New_York:20260515T090000
DTEND;TZID=America/New_York:20260515T170000
X-MICROSOFT-CDO-ALLDAYEVENT:FALSE
SUMMARY:Vanguard Leadership II
DESCRIPTION:Leaders are committed to taking followers to a better place\, so tools are used to help the leader to become more effective in their roles. Leaders are always learning and striving to be better. When they invest in themselves\, they also invest in the people that follows.\n\nThe Vanguard Leadership II Program is developed to stretch the leader’s potential by providing tools and challenges in a variety of ways to make the learning stick. The day will be fast-paced and interactive. Each person should come prepared to build their base of knowledge and build new relationships. Without a doubt\, your presence will help to define how rich the day will be.\n\nSome of the topics covered will be:\no Leadership and Management\no Critical Thinking\no Decision-making\no Problem- solving\no Motivating followers\no And additional topics\n\nCome and join us and learn of ways to apply the knowledge you will gain from the people\, the presentations\, the practicum and the impact of your presence at this session.\n\nhttps://www.paypal.com/ncp/payment/S43L6U55DMYCW\n\nhttps://www.eventcreate.com/e/vanguard-leadership-program-ii
X-ALT-DESC;FMTTYPE=text/html:Leaders are committed to taking followers to a better place\, so tools are used to help the leader to become more effective in their roles. Leaders are always learning and striving to be better. When they invest in themselves\, they also invest in the people that follows.\n\nThe Vanguard Leadership II Program is developed to stretch the leader’s potential by providing tools and challenges in a variety of ways to make the learning stick. The day will be fast-paced and interactive. Each person should come prepared to build their base of knowledge and build new relationships. Without a doubt\, your presence will help to define how rich the day will be.\n\nSome of the topics covered will be:\no Leadership and Management\no Critical Thinking\no Decision-making\no Problem- solving\no Motivating followers\no And additional topics\n\nCome and join us and learn of ways to apply the knowledge you will gain from the people\, the presentations\, the practicum and the impact of your presence at this session.\n\nhttps://www.paypal.com/ncp/payment/S43L6U55DMYCW\n\nhttps://www.eventcreate.com/e/vanguard-leadership-program-ii
LOCATION:240 Main Street Goshen NY 10924
UID:e.3761.1445065
SEQUENCE:3
DTSTAMP:20260423T084307Z
URL:https://members.orangeny.com/chamber-calendar/Details/vanguard-leadership-ii-1711548?sourceTypeId=Hub
END:VEVENT
END:VCALENDAR
