BEGIN:VCALENDAR
VERSION:2.0
PRODID:-//ChamberMaster//Event Calendar 2.0//EN
METHOD:PUBLISH
X-PUBLISHED-TTL:P1H
REFRESH-INTERVAL:P1H
CALSCALE:GREGORIAN
BEGIN:VTIMEZONE
TZID:America/New_York
BEGIN:DAYLIGHT
RRULE:FREQ=YEARLY;BYMONTH=3;BYDAY=2SU
DTSTART:20070101T000000
TZOFFSETFROM:-0500
TZOFFSETTO:-0400
TZNAME:Eastern Daylight Time
END:DAYLIGHT
BEGIN:STANDARD
RRULE:FREQ=YEARLY;BYMONTH=11;BYDAY=1SU
DTSTART:20070101T000000
TZOFFSETFROM:-0400
TZOFFSETTO:-0500
TZNAME:Eastern Standard Time
END:STANDARD
END:VTIMEZONE
BEGIN:VEVENT
DTSTART;TZID=America/New_York:20260426T150000
DTEND;TZID=America/New_York:20260426T170000
X-MICROSOFT-CDO-ALLDAYEVENT:FALSE
SUMMARY:Woven in Motion - 2026 Spring Dance Concert
DESCRIPTION:Fei Tian College\, Northern Campus (FTC Northern) invites you to enjoy a celebration of warmth\, joy\, and renewal through dance. The dance concert presents a collection of short vignettes in ballet and classical Chinese dance\, where timeless movement and vibrant storytelling renew a sense of hope after a long winter.
X-ALT-DESC;FMTTYPE=text/html:Fei Tian College\, Northern Campus (FTC Northern) invites you to enjoy a celebration of warmth\, joy\, and renewal through dance. The dance concert presents a collection of short vignettes in ballet and classical Chinese dance\, where timeless movement and vibrant storytelling renew a sense of hope after a long winter.
LOCATION:231 Creamery Pond Road Chester NY 10918
UID:e.3761.1442368
SEQUENCE:3
DTSTAMP:20260423T084855Z
URL:https://members.orangeny.com/chamber-calendar/Details/woven-in-motion-2026-spring-dance-concert-1708252?sourceTypeId=Hub
END:VEVENT
END:VCALENDAR
